BEGIN:VCALENDAR
VERSION:2.0
PRODID:spatie/icalendar-generator
DESCRIPTION:こみはち製作所のイベント
X-WR-CALDESC:こみはち製作所のイベント
REFRESH-INTERVAL;VALUE=DURATION:PT1440M
X-PUBLISHED-TTL:PT1440M
BEGIN:VTIMEZONE
TZID:Asia/Tokyo
BEGIN:STANDARD
DTSTART:20200513T000000Z
TZOFFSETFROM:+0900
TZOFFSETTO:+0900
END:STANDARD
END:VTIMEZONE
BEGIN:VTIMEZONE
TZID:UTC
BEGIN:STANDARD
DTSTART:20250725T125917Z
TZOFFSETFROM:+0000
TZOFFSETTO:+0000
END:STANDARD
END:VTIMEZONE
BEGIN:VEVENT
UID:1-1
DTSTAMP:20260421T125917Z
SUMMARY:イオンタウン四日市泊店
LOCATION:イオンタウン四日市泊 三重県四日市市泊小柳町4
 番5-1号  四日市市 三重県
ORGANIZER;CN=comi8s:MAILTO:machikoito615@gmail.com
DTSTART;TZID=Asia/Tokyo;VALUE=DATE:20210207
DTEND;TZID=Asia/Tokyo;VALUE=DATE:20210215
X-ALT-DESC;FMTTYPE=TEXT/HTML:
CATEGORIES:General
URL;VALUE=URI:https://comi8s.com/mc-events/%e3%82%a4%e3%82%aa%e3%83%b3%e3%8
 2%bf%e3%82%a6%e3%83%b3%e5%9b%9b%e6%97%a5%e5%b8%82%e6%b3%8a%e5%ba%97/?mc_id
 =1
END:VEVENT
END:VCALENDAR